BEGIN:VCALENDAR
VERSION:2.0
CALSCALE:GREGORIAN
PRODID:-//WordPress//RSVPMaker//EN
METHOD:REQUEST
BEGIN:VEVENT
DTSTAMP:20260423T203504Z
UID:6A6CAA12C63AC1C2F2B7D967B512887D@rsvpmaker.com
SEQUENCE:0
STATUS:CONFIRMED
DTSTART:20190511T143000Z
DTEND:20190511T153000Z
LOCATION:See\: https\://www.blackjews.org/rsvpmaker/levis-bar-mitzvah-
 rsvp/
SUMMARY:Levi's Bar Mitzvah RSVP
DESCRIPTION:Event info\: https\://www.blackjews.org/rsvpmaker/levis-ba
 r-mitzvah-rsvp/
END:VEVENT
END:VCALENDAR