BEGIN:VCALENDAR
VERSION:2.0
CALSCALE:GREGORIAN
PRODID:-//WordPress//RSVPMaker//EN
METHOD:REQUEST
BEGIN:VEVENT
DTSTAMP:20260423T214445Z
UID:63C17D596F401ACB520EFE4A2A7A01EE@rsvpmaker.com
SEQUENCE:0
STATUS:CONFIRMED
DTSTART:20170122T180000Z
DTEND:20170122T190000Z
LOCATION:See\: https\://www.blackjews.org/rsvpmaker/rabbinic-graduatio
 n-january-22-2017-2017-01-22/
SUMMARY:Rabbinic Graduation January 22, 2017
DESCRIPTION:Event info\: https\://www.blackjews.org/rsvpmaker/rabbinic
 -graduation-january-22-2017-2017-01-22/
END:VEVENT
END:VCALENDAR