BEGIN:VCALENDAR
VERSION:2.0
CALSCALE:GREGORIAN
PRODID:-//WordPress//RSVPMaker//EN
METHOD:REQUEST
BEGIN:VEVENT
DTSTAMP:20260423T203525Z
UID:EEEE5E5759E88C42B5846F5F06094DC3@rsvpmaker.com
SEQUENCE:0
STATUS:CONFIRMED
DTSTART:20220926T140000Z
DTEND:20220926T150000Z
LOCATION:See\: https\://www.blackjews.org/rsvpmaker/rsvp-yom-teruah-ro
 sh-hashanah-2/
SUMMARY:RSVP Yom Teruah / Rosh Hashanah
DESCRIPTION:Event info\: https\://www.blackjews.org/rsvpmaker/rsvp-yom
 -teruah-rosh-hashanah-2/
END:VEVENT
END:VCALENDAR